Workbook

Sheet Welcome
A2: Welcome to the Agroecology Research Collaboration's 'Research Needs' spreadsheet!
B4: What is this document?
B5: As a collective of organisations working within the food, farming and land-use sector, we rely on rigorously conducted research to advance agroecology in the UK and to support our policy work with governmental and public bodies. However, our organisations often don't have capacity to undertake all our research needs ourselves. We are also aware that there is a growing effort within research institutions to shift the norms around what gets researched, and how, and who sets research agendas. We therefore recognise the interdependence that exists between our organisations and research institutions to strengthen the agroecology movement. In light of this, we have created a ‘Research Needs’ document to highlight the topics that we require research evidence on. This document will evolve as our research needs expand and shift. Please note that while care has been taken to develop this list, it is not exhaustive and may not capture the full diversity of perspectives across the ARC community.
B6: How is it organised and how do I use it?
B7: Research Needs, as shown in the Research Needs tab at the bottom of this page, are tagged with overarching research topic(s). To search by topic , you can go to the Topic Selection tab and select topics that spark your interest. The Research Needs tab will automatically update to reflect your choices. To browse the full list, you can go to the 'All Research Needs' tab where they are organised into categories To search for a keyword, go to the 'All Research Needs' tab and use the 'Find' function within Excel (Ctrl + F).
B8: Who is it for?
B9: This resource is for all researchers, including student researchers, working in various organisations and at various career levels. Many of the research needs are large projects that could span many years, though these can be broken down into smaller questions in the case of a shorter-term project; please get in touch if you'd like advice on this.
B10: What do I do if I'm interested in doing research based on an idea in this document?
B11: If there is a question you are interested in pursuing, have ideas on developing a research project, would like to connect with the ARC, or want any further information, please contact us via email: isobel.talks@landworkersalliance.org.uk. If you are carrying out a project inspired by this spreadsheet, we ask that you kindly develop a communications output for our members (this could just be a one-pager that we co-design!)
B12: I've already done research on one of these topics; what now?
B13: If you’ve carried out a research project on any of these topics and feel comfortable sharing your outputs, we would be delighted to hear from you. We warmly welcome contributions from all researchers at any level, and aim to make this knowledge accessible to our communities, supporting on the ground change and integration into our policy and strategic work.

Sheet Topic Selection
B2: Please select topic(s) that spark your research interest
B3: We'd recommend choosing one or two at a time so the list isn't too overwhelming!
B5: Research Topic
B6: Farming systems & production
B7: ='Topics & contexts'!$A3 -> Agroecological practices & alternatives to conventional | C7: FALSE
B8: ='Topics & contexts'!$A4 -> Yield | C8: FALSE
B9: ='Topics & contexts'!$A5 -> Quality of produce | C9: FALSE
B10: ='Topics & contexts'!$A6 -> Tools, tech & appropriate innovation | C10: FALSE
B11: ='Topics & contexts'!A7 -> Resilience to shocks (incl. climate change) | C11: FALSE
B12: ='Topics & contexts'!A8 -> Certification & standards | C12: FALSE
B13: Ecosystem stewardship
B14: ='Topics & contexts'!A9 -> Ecology & biodiversity | C14: FALSE
B15: ='Topics & contexts'!A10 -> Soil health | C15: FALSE
B16: ='Topics & contexts'!A11 -> Water resources | C16: FALSE
B17: ='Topics & contexts'!A12 -> Animal welfare | C17: FALSE
B18: ='Topics & contexts'!A13 -> Resource management & circularity | C18: FALSE
B19: ='Topics & contexts'!A14 -> GHGs & climate mitigation | C19: FALSE
B20: Social and community welfare
B21: ='Topics & contexts'!A15 -> Food sovereignty & justice | C21: FALSE
B22: ='Topics & contexts'!A16 -> Land justice | C22: FALSE
B23: ='Topics & contexts'!A17 -> Labour & workers rights | C23: FALSE
B24: ='Topics & contexts'!A18 -> Social & community impacts | C24: FALSE
B25: ='Topics & contexts'!A19 -> Culture, heritage & traditional knowledge | C25: FALSE
B26: ='Topics & contexts'!A20 -> Education, training & knowledge exchange | C26: FALSE
B27: ='Topics & contexts'!A21 -> Research | C27: FALSE
B28: Economics
B29: ='Topics & contexts'!A22 -> Land access & new entrants | C29: FALSE
B30: ='Topics & contexts'!A23 -> Economic status, jobs & livelihoods | C30: FALSE
B31: ='Topics & contexts'!A24 -> Economic models & financing | C31: FALSE
B32: Systems change
B33: ='Topics & contexts'!A25 -> Policy & governance | C33: FALSE
B34: ='Topics & contexts'!A26 -> Communication, advocacy & political engagement | C34: FALSE
B35: ='Topics & contexts'!A27 -> Scale up opportunities & barriers | C35: FALSE
B36: ='Topics & contexts'!A28 -> Systemic change | C36: FALSE

Sheet Research Needs (by topic)
B2: ID | C2: Research Question | D2: Topics | E2: Contexts | F2: Comments | G2: References
B3: {=_xlfn._xlws.FILTER( 'Research Needs (all)'!A3:A196, _xlfn.BYROW( 'Research Needs (all)'!E3:E196, _xlfn.LAMBDA(_xlpm.row, SUM( --ISNUMBER( MATCH( TRIM(_xlfn.TEXTSPLIT(_xlpm.row, ";")), TRIM(_xlfn._xlws.FILTER('Topic Selection'!B7:B40, 'Topic Selection'!C7:C40=TRUE)), 0 ) ) )>0 ) ), "" )} | C3: =IF($B3="", "", INDEX('Research Needs (all)'!$B$3:$B$196, MATCH($B3,'Research Needs (all)'!$A$3:$A$196, 0))) | D3: =IF($B3 = "", "", INDEX('Research Needs (all)'!$E$3:$E$196, MATCH($B3,'Research Needs (all)'!$A$3:$A$196, 0))) | E3: =IF($B3 = "", "", IF(INDEX('Research Needs (all)'!#REF!, MATCH($B3,'Research Needs (all)'!$A$3:$A$196, 0)) = 0, "", INDEX('Research Needs (all)'!#REF!, MATCH($B3,'Research Needs (all)'!$A$3:$A$196, 0)))) | F3: =IF($B3 = "", "", IF(INDEX('Research Needs (all)'!M$3:M$196, MATCH($B3,'Research Needs (all)'!$A$3:$A$196, 0)) = 0, "", INDEX('Research Needs (all)'!M$3:M$196, MATCH($B3,'Research Needs (all)'!$A$3:$A$196, 0)))) | G3: =IF($B3 = "", "", IF(INDEX('Research Needs (all)'!N$3:N$196, MATCH($B3,'Research Needs (all)'!$A$3:$A$196, 0)) = 0, "", INDEX('Research Needs (all)'!N$3:N$196, MATCH($B3,'Research Needs (all)'!$A$3:$A$196, 0))))
C4: =IF($B4="", "", INDEX('Research Needs (all)'!$B$3:$B$196, MATCH($B4,'Research Needs (all)'!$A$3:$A$196, 0))) | D4: =IF($B4 = "", "", INDEX('Research Needs (all)'!$E$3:$E$196, MATCH($B4,'Research Needs (all)'!$A$3:$A$196, 0))) | E4: =IF($B4 = "", "", IF(INDEX('Research Needs (all)'!#REF!, MATCH($B4,'Research Needs (all)'!$A$3:$A$196, 0)) = 0, "", INDEX('Research Needs (all)'!#REF!, MATCH($B4,'Research Needs (all)'!$A$3:$A$196, 0)))) | F4: =IF($B4 = "", "", IF(INDEX('Research Needs (all)'!M$3:M$196, MATCH($B4,'Research Needs (all)'!$A$3:$A$196, 0)) = 0, "", INDEX('Research Needs (all)'!M$3:M$196, MATCH($B4,'Research Needs (all)'!$A$3:$A$196, 0)))) | G4: =IF($B4 = "", "", IF(INDEX('Research Needs (all)'!N$3:N$196, MATCH($B4,'Research Needs (all)'!$A$3:$A$196, 0)) = 0, "", INDEX('Research Needs (all)'!N$3:N$196, MATCH($B4,'Research Needs (all)'!$A$3:$A$196, 0))))
C5: =IF($B5="", "", INDEX('Research Needs (all)'!$B$3:$B$196, MATCH($B5,'Research Needs (all)'!$A$3:$A$196, 0))) | D5: =IF($B5 = "", "", INDEX('Research Needs (all)'!$E$3:$E$196, MATCH($B5,'Research Needs (all)'!$A$3:$A$196, 0))) | E5: =IF($B5 = "", "", IF(INDEX('Research Needs (all)'!#REF!, MATCH($B5,'Research Needs (all)'!$A$3:$A$196, 0)) = 0, "", INDEX('Research Needs (all)'!#REF!, MATCH($B5,'Research Needs (all)'!$A$3:$A$196, 0)))) | F5: =IF($B5 = "", "", IF(INDEX('Research Needs (all)'!M$3:M$196, MATCH($B5,'Research Needs (all)'!$A$3:$A$196, 0)) = 0, "", INDEX('Research Needs (all)'!M$3:M$196, MATCH($B5,'Research Needs (all)'!$A$3:$A$196, 0)))) | G5: =IF($B5 = "", "", IF(INDEX('Research Needs (all)'!N$3:N$196, MATCH($B5,'Research Needs (all)'!$A$3:$A$196, 0)) = 0, "", INDEX('Research Needs (all)'!N$3:N$196, MATCH($B5,'Research Needs (all)'!$A$3:$A$196, 0))))
C6: =IF($B6="", "", INDEX('Research Needs (all)'!$B$3:$B$196, MATCH($B6,'Research Needs (all)'!$A$3:$A$196, 0))) | D6: =IF($B6 = "", "", INDEX('Research Needs (all)'!$E$3:$E$196, MATCH($B6,'Research Needs (all)'!$A$3:$A$196, 0))) | E6: =IF($B6 = "", "", IF(INDEX('Research Needs (all)'!#REF!, MATCH($B6,'Research Needs (all)'!$A$3:$A$196, 0)) = 0, "", INDEX('Research Needs (all)'!#REF!, MATCH($B6,'Research Needs (all)'!$A$3:$A$196, 0)))) | F6: =IF($B6 = "", "", IF(INDEX('Research Needs (all)'!M$3:M$196, MATCH($B6,'Research Needs (all)'!$A$3:$A$196, 0)) = 0, "", INDEX('Research Needs (all)'!M$3:M$196, MATCH($B6,'Research Needs (all)'!$A$3:$A$196, 0)))) | G6: =IF($B6 = "", "", IF(INDEX('Research Needs (all)'!N$3:N$196, MATCH($B6,'Research Needs (all)'!$A$3:$A$196, 0)) = 0, "", INDEX('Research Needs (all)'!N$3:N$196, MATCH($B6,'Research Needs (all)'!$A$3:$A$196, 0))))
C7: =IF($B7="", "", INDEX('Research Needs (all)'!$B$3:$B$196, MATCH($B7,'Research Needs (all)'!$A$3:$A$196, 0))) | D7: =IF($B7 = "", "", INDEX('Research Needs (all)'!$E$3:$E$196, MATCH($B7,'Research Needs (all)'!$A$3:$A$196, 0))) | E7: =IF($B7 = "", "", IF(INDEX('Research Needs (all)'!#REF!, MATCH($B7,'Research Needs (all)'!$A$3:$A$196, 0)) = 0, "", INDEX('Research Needs (all)'!#REF!, MATCH($B7,'Research Needs (all)'!$A$3:$A$196, 0)))) | F7: =IF($B7 = "", "", IF(INDEX('Research Needs (all)'!M$3:M$196, MATCH($B7,'Research Needs (all)'!$A$3:$A$196, 0)) = 0, "", INDEX('Research Needs (all)'!M$3:M$196, MATCH($B7,'Research Needs (all)'!$A$3:$A$196, 0)))) | G7: =IF($B7 = "", "", IF(INDEX('Research Needs (all)'!N$3:N$196, MATCH($B7,'Research Needs (all)'!$A$3:$A$196, 0)) = 0, "", INDEX('Research Needs (all)'!N$3:N$196, MATCH($B7,'Research Needs (all)'!$A$3:$A$196, 0))))
C8: =IF($B8="", "", INDEX('Research Needs (all)'!$B$3:$B$196, MATCH($B8,'Research Needs (all)'!$A$3:$A$196, 0))) | D8: =IF($B8 = "", "", INDEX('Research Needs (all)'!$E$3:$E$196, MATCH($B8,'Research Needs (all)'!$A$3:$A$196, 0))) | E8: =IF($B8 = "", "", IF(INDEX('Research Needs (all)'!#REF!, MATCH($B8,'Research Needs (all)'!$A$3:$A$196, 0)) = 0, "", INDEX('Research Needs (all)'!#REF!, MATCH($B8,'Research Needs (all)'!$A$3:$A$196, 0)))) | F8: =IF($B8 = "", "", IF(INDEX('Research Needs (all)'!M$3:M$196, MATCH($B8,'Research Needs (all)'!$A$3:$A$196, 0)) = 0, "", INDEX('Research Needs (all)'!M$3:M$196, MATCH($B8,'Research Needs (all)'!$A$3:$A$196, 0)))) | G8: =IF($B8 = "", "", IF(INDEX('Research Needs (all)'!N$3:N$196, MATCH($B8,'Research Needs (all)'!$A$3:$A$196, 0)) = 0, "", INDEX('Research Needs (all)'!N$3:N$196, MATCH($B8,'Research Needs (all)'!$A$3:$A$196, 0))))
C9: =IF($B9="", "", INDEX('Research Needs (all)'!$B$3:$B$196, MATCH($B9,'Research Needs (all)'!$A$3:$A$196, 0))) | D9: =IF($B9 = "", "", INDEX('Research Needs (all)'!$E$3:$E$196, MATCH($B9,'Research Needs (all)'!$A$3:$A$196, 0))) | E9: =IF($B9 = "", "", IF(INDEX('Research Needs (all)'!#REF!, MATCH($B9,'Research Needs (all)'!$A$3:$A$196, 0)) = 0, "", INDEX('Research Needs (all)'!#REF!, MATCH($B9,'Research Needs (all)'!$A$3:$A$196, 0)))) | F9: =IF($B9 = "", "", IF(INDEX('Research Needs (all)'!M$3:M$196, MATCH($B9,'Research Needs (all)'!$A$3:$A$196, 0)) = 0, "", INDEX('Research Needs (all)'!M$3:M$196, MATCH($B9,'Research Needs (all)'!$A$3:$A$196, 0)))) | G9: =IF($B9 = "", "", IF(INDEX('Research Needs (all)'!N$3:N$196, MATCH($B9,'Research Needs (all)'!$A$3:$A$196, 0)) = 0, "", INDEX('Research Needs (all)'!N$3:N$196, MATCH($B9,'Research Needs (all)'!$A$3:$A$196, 0))))
C10: =IF($B10="", "", INDEX('Research Needs (all)'!$B$3:$B$196, MATCH($B10,'Research Needs (all)'!$A$3:$A$196, 0))) | D10: =IF($B10 = "", "", INDEX('Research Needs (all)'!$E$3:$E$196, MATCH($B10,'Research Needs (all)'!$A$3:$A$196, 0))) | E10: =IF($B10 = "", "", IF(INDEX('Research Needs (all)'!#REF!, MATCH($B10,'Research Needs (all)'!$A$3:$A$196, 0)) = 0, "", INDEX('Research Needs (all)'!#REF!, MATCH($B10,'Research Needs (all)'!$A$3:$A$196, 0)))) | F10: =IF($B10 = "", "", IF(INDEX('Research Needs (all)'!M$3:M$196, MATCH($B10,'Research Needs (all)'!$A$3:$A$196, 0)) = 0, "", INDEX('Research Needs (all)'!M$3:M$196, MATCH($B10,'Research Needs (all)'!$A$3:$A$196, 0)))) | G10: =IF($B10 = "", "", IF(INDEX('Research Needs (all)'!N$3:N$196, MATCH($B10,'Research Needs (all)'!$A$3:$A$196, 0)) = 0, "", INDEX('Research Needs (all)'!N$3:N$196, MATCH($B10,'Research Needs (all)'!$A$3:$A$196, 0))))
C11: =IF($B11="", "", INDEX('Research Needs (all)'!$B$3:$B$196, MATCH($B11,'Research Needs (all)'!$A$3:$A$196, 0))) | D11: =IF($B11 = "", "", INDEX('Research Needs (all)'!$E$3:$E$196, MATCH($B11,'Research Needs (all)'!$A$3:$A$196, 0))) | E11: =IF($B11 = "", "", IF(INDEX('Research Needs (all)'!#REF!, MATCH($B11,'Research Needs (all)'!$A$3:$A$196, 0)) = 0, "", INDEX('Research Needs (all)'!#REF!, MATCH($B11,'Research Needs (all)'!$A$3:$A$196, 0)))) | F11: =IF($B11 = "", "", IF(INDEX('Research Needs (all)'!M$3:M$196, MATCH($B11,'Research Needs (all)'!$A$3:$A$196, 0)) = 0, "", INDEX('Research Needs (all)'!M$3:M$196, MATCH($B11,'Research Needs (all)'!$A$3:$A$196, 0)))) | G11: =IF($B11 = "", "", IF(INDEX('Research Needs (all)'!N$3:N$196, MATCH($B11,'Research Needs (all)'!$A$3:$A$196, 0)) = 0, "", INDEX('Research Needs (all)'!N$3:N$196, MATCH($B11,'Research Needs (all)'!$A$3:$A$196, 0))))
C12: =IF($B12="", "", INDEX('Research Needs (all)'!$B$3:$B$196, MATCH($B12,'Research Needs (all)'!$A$3:$A$196, 0))) | D12: =IF($B12 = "", "", INDEX('Research Needs (all)'!$E$3:$E$196, MATCH($B12,'Research Needs (all)'!$A$3:$A$196, 0))) | E12: =IF($B12 = "", "", IF(INDEX('Research Needs (all)'!#REF!, MATCH($B12,'Research Needs (all)'!$A$3:$A$196, 0)) = 0, "", INDEX('Research Needs (all)'!#REF!, MATCH($B12,'Research Needs (all)'!$A$3:$A$196, 0)))) | F12: =IF($B12 = "", "", IF(INDEX('Research Needs (all)'!M$3:M$196, MATCH($B12,'Research Needs (all)'!$A$3:$A$196, 0)) = 0, "", INDEX('Research Needs (all)'!M$3:M$196, MATCH($B12,'Research Needs (all)'!$A$3:$A$196, 0)))) | G12: =IF($B12 = "", "", IF(INDEX('Research Needs (all)'!N$3:N$196, MATCH($B12,'Research Needs (all)'!$A$3:$A$196, 0)) = 0, "", INDEX('Research Needs (all)'!N$3:N$196, MATCH($B12,'Research Needs (all)'!$A$3:$A$196, 0))))
C13: =IF($B13="", "", INDEX('Research Needs (all)'!$B$3:$B$196, MATCH($B13,'Research Needs (all)'!$A$3:$A$196, 0))) | D13: =IF($B13 = "", "", INDEX('Research Needs (all)'!$E$3:$E$196, MATCH($B13,'Research Needs (all)'!$A$3:$A$196, 0))) | E13: =IF($B13 = "", "", IF(INDEX('Research Needs (all)'!#REF!, MATCH($B13,'Research Needs (all)'!$A$3:$A$196, 0)) = 0, "", INDEX('Research Needs (all)'!#REF!, MATCH($B13,'Research Needs (all)'!$A$3:$A$196, 0)))) | F13: =IF($B13 = "", "", IF(INDEX('Research Needs (all)'!M$3:M$196, MATCH($B13,'Research Needs (all)'!$A$3:$A$196, 0)) = 0, "", INDEX('Research Needs (all)'!M$3:M$196, MATCH($B13,'Research Needs (all)'!$A$3:$A$196, 0)))) | G13: =IF($B13 = "", "", IF(INDEX('Research Needs (all)'!N$3:N$196, MATCH($B13,'Research Needs (all)'!$A$3:$A$196, 0)) = 0, "", INDEX('Research Needs (all)'!N$3:N$196, MATCH($B13,'Research Needs (all)'!$A$3:$A$196, 0))))
C14: =IF($B14="", "", INDEX('Research Needs (all)'!$B$3:$B$196, MATCH($B14,'Research Needs (all)'!$A$3:$A$196, 0))) | D14: =IF($B14 = "", "", INDEX('Research Needs (all)'!$E$3:$E$196, MATCH($B14,'Research Needs (all)'!$A$3:$A$196, 0))) | E14: =IF($B14 = "", "", IF(INDEX('Research Needs (all)'!#REF!, MATCH($B14,'Research Needs (all)'!$A$3:$A$196, 0)) = 0, "", INDEX('Research Needs (all)'!#REF!, MATCH($B14,'Research Needs (all)'!$A$3:$A$196, 0)))) | F14: =IF($B14 = "", "", IF(INDEX('Research Needs (all)'!M$3:M$196, MATCH($B14,'Research Needs (all)'!$A$3:$A$196, 0)) = 0, "", INDEX('Research Needs (all)'!M$3:M$196, MATCH($B14,'Research Needs (all)'!$A$3:$A$196, 0)))) | G14: =IF($B14 = "", "", IF(INDEX('Research Needs (all)'!N$3:N$196, MATCH($B14,'Research Needs (all)'!$A$3:$A$196, 0)) = 0, "", INDEX('Research Needs (all)'!N$3:N$196, MATCH($B14,'Research Needs (all)'!$A$3:$A$196, 0))))
C15: =IF($B15="", "", INDEX('Research Needs (all)'!$B$3:$B$196, MATCH($B15,'Research Needs (all)'!$A$3:$A$196, 0))) | D15: =IF($B15 = "", "", INDEX('Research Needs (all)'!$E$3:$E$196, MATCH($B15,'Research Needs (all)'!$A$3:$A$196, 0))) | E15: =IF($B15 = "", "", IF(INDEX('Research Needs (all)'!#REF!, MATCH($B15,'Research Needs (all)'!$A$3:$A$196, 0)) = 0, "", INDEX('Research Needs (all)'!#REF!, MATCH($B15,'Research Needs (all)'!$A$3:$A$196, 0)))) | F15: =IF($B15 = "", "", IF(INDEX('Research Needs (all)'!M$3:M$196, MATCH($B15,'Research Needs (all)'!$A$3:$A$196, 0)) = 0, "", INDEX('Research Needs (all)'!M$3:M$196, MATCH($B15,'Research Needs (all)'!$A$3:$A$196, 0)))) | G15: =IF($B15 = "", "", IF(INDEX('Research Needs (all)'!N$3:N$196, MATCH($B15,'Research Needs (all)'!$A$3:$A$196, 0)) = 0, "", INDEX('Research Needs (all)'!N$3:N$196, MATCH($B15,'Research Needs (all)'!$A$3:$A$196, 0))))
... C246: =IF($B246="", "", INDEX('Research Needs (all)'!$B$3:$B$196, MATCH($B246,'Research Needs (all)'!$A$3:$A$196, 0))) | D246: =IF($B246 = "", "", INDEX('Research Needs (all)'!$E$3:$E$196, MATCH($B246,'Research Needs (all)'!$A$3:$A$196, 0))) | E246: =IF($B246 = "", "", IF(INDEX('Research Needs (all)'!#REF!, MATCH($B246,'Research Needs (all)'!$A$3:$A$196, 0)) = 0, "", INDEX('Research Needs (all)'!#REF!, MATCH($B246,'Research Needs (all)'!$A$3:$A$196, 0)))) | F246: =IF($B246 = "", "", IF(INDEX('Research Needs (all)'!M$3:M$196, MATCH($B246,'Research Needs (all)'!$A$3:$A$196, 0)) = 0, "", INDEX('Research Needs (all)'!M$3:M$196, MATCH($B246,'Research Needs (all)'!$A$3:$A$196, 0)))) | G246: =IF($B246 = "", "", IF(INDEX('Research Needs (all)'!N$3:N$196, MATCH($B246,'Research Needs (all)'!$A$3:$A$196, 0)) = 0, "", INDEX('Research Needs (all)'!N$3:N$196, MATCH($B246,'Research Needs (all)'!$A$3:$A$196, 0))))

Sheet All Research Needs
B2: ID | C2: Research Question | D2: Topics | E2: Contexts | F2: Comments | G2: References
B3: {=_xlfn._xlws.FILTER( 'Research Needs (all)'!A3:A196, _xlfn.BYROW( 'Research Needs (all)'!E3:E196, _xlfn.LAMBDA(_xlpm.row, SUM( --ISNUMBER( MATCH( TRIM(_xlfn.TEXTSPLIT(_xlpm.row, ";")), TRIM(_xlfn._xlws.FILTER('Topic Selection'!B14:B40, 'Topic Selection'!C14:C40=TRUE)), 0 ) ) )>0 ) ), "" )} | C3: ='Research Needs (all)'!B3 -> How can ecological/sustainable farmers ensure that their produce is accessible to all? | F3: =IF('Research Needs (all)'!M3 = "", "", 'Research Needs (all)'!M3) | G3: =IF('Research Needs (all)'!N3 = "", "", 'Research Needs (all)'!N3)
C4: ='Research Needs (all)'!B4 -> How are ecological and sustainable farmers engaging with issues of Food Justice? | F4: =IF('Research Needs (all)'!M4 = "", "", 'Research Needs (all)'!M4) | G4: =IF('Research Needs (all)'!N4 = "", "", 'Research Needs (all)'!N4)
C5: ='Research Needs (all)'!B5 -> Amongst agroecological farmers, what practices can be shared and implemented to improve food accessibility and equity? | F5: =IF('Research Needs (all)'!M5 = "", "", 'Research Needs (all)'!M5) | G5: =IF('Research Needs (all)'!N5 = "", "", 'Research Needs (all)'!N5)
C6: ='Research Needs (all)'!B6 -> How commercially viable are small/medium production systems? | F6: =IF('Research Needs (all)'!M6 = "", "", 'Research Needs (all)'!M6) -> E.g., could do an updated version of the 2011 ELC report 'Small is Successful' | G6: =IF('Research Needs (all)'!N6 = "", "", 'Research Needs (all)'!N6) -> 2011 ELC report 'Small is Successful'
C7: ='Research Needs (all)'!B7 -> How can farms collaborate in ways that are mutually supportive, including to maximise revenue streams? | F7: =IF('Research Needs (all)'!M7 = "", "", 'Research Needs (all)'!M7) -> E.g., coordinating food production for public procurement systems or CSA model collaborations. | G7: =IF('Research Needs (all)'!N7 = "", "", 'Research Needs (all)'!N7)
C8: ='Research Needs (all)'!B8 -> How much public funding is allocated to research and development (R&D) in organic and agroecological practices compared to other agricultural approaches? | F8: =IF('Research Needs (all)'!M8 = "", "", 'Research Needs (all)'!M8) | G8: =IF('Research Needs (all)'!N8 = "", "", 'Research Needs (all)'!N8)
C9: ='Research Needs (all)'!B9 -> How do different True Cost Accounting (TCA) valuation methods compare in their ability to capture the environmental and social externalities of agriculture? | F9: =IF('Research Needs (all)'!M9 = "", "", 'Research Needs (all)'!M9) | G9: =IF('Research Needs (all)'!N9 = "", "", 'Research Needs (all)'!N9)
C10: ='Research Needs (all)'!B10 -> In what ways is True Cost Accounting research influencing agricultural and food policy, and what are the implications for sustainability debates? | F10: =IF('Research Needs (all)'!M10 = "", "", 'Research Needs (all)'!M10) | G10: =IF('Research Needs (all)'!N10 = "", "", 'Research Needs (all)'!N10)
C11: ='Research Needs (all)'!B11 -> What are the social impacts and benefits of agroecological farming systems, and how are these linked to current policy agendas? | F11: =IF('Research Needs (all)'!M11 = "", "", 'Research Needs (all)'!M11) | G11: =IF('Research Needs (all)'!N11 = "", "", 'Research Needs (all)'!N11)
C12: ='Research Needs (all)'!B12 -> How does peri-urban agriculture contribute to social value, particularly in relation to diet, physical health, and mental wellbeing? | F12: =IF('Research Needs (all)'!M12 = "", "", 'Research Needs (all)'!M12) | G12: =IF('Research Needs (all)'!N12 = "", "", 'Research Needs (all)'!N12)
C13: ='Research Needs (all)'!B13 -> What different models of land tenure exist globally and/or in specific region? How do they vary across urban, peri-urban, and rural contexts? | F13: =IF('Research Needs (all)'!M13 = "", "", 'Research Needs (all)'!M13) | G13: =IF('Research Needs (all)'!N13 = "", "", 'Research Needs (all)'!N13)
C14: ='Research Needs (all)'!B14 -> What barriers exist to accessing land under different tenure models? What policies exacerbate or mitigate barriers to equitable land access? | F14: =IF('Research Needs (all)'!M14 = "", "", 'Research Needs (all)'!M14) | G14: =IF('Research Needs (all)'!N14 = "", "", 'Research Needs (all)'!N14)
C15: ='Research Needs (all)'!B15 -> How do perceptions of farming shape the uptake of agroecological practices among new and prospective farmers? | F15: =IF('Research Needs (all)'!M15 = "", "", 'Research Needs (all)'!M15) | G15: =IF('Research Needs (all)'!N15 = "", "", 'Research Needs (all)'!N15)
... C195: ='Research Needs (all)'!B195 -> How can agroecological farming models be made more attractive to policymakers and investors operating within a capitalist market framework? What policy, market, and investment mechanisms could align agroecological innovation with current funding and support systems (e.g., Defra funding programmes), whilst safeguarding social and ecological principles? | F195: =IF('Research Needs (all)'!M195 = "", "", 'Research Needs (all)'!M195) | G195: =IF('Research Needs (all)'!N195 = "", "", 'Research Needs (all)'!N195)

Sheet Research Needs (all)
A1: [non-public-facing copy: hide this sheet for the public version]
A2: ID | B2: Research Question | C2: FOR REVIEW (OLD RESEARCH TOPIC) | D2: FOR REVIEW (comment) | E2: Topics | F2: Topic 1 | G2: Topic 2 | H2: Topic 3 | I2: Topic 4 | J2: Topic 5 | K2: Topic 6 | L2: Topic 7 | M2: Comments | N2: References | O2: Proposed by | P2: Contact details
A3: 1 | B3: How can ecological/sustainable farmers ensure that their produce is accessible to all? | C3: How can ecological/sustainable farmers ensure that their produce is accessible to all? How are ecological and sustainable farmers engaging with issues of Food Jusitce? What practices can be shared and implemented? | D3: split into 3 | E3: =_xlfn.TEXTJOIN("; ", TRUE, F3:L3) -> Food sovereignty & justice; Economic models & financing; Systemic change | F3: ='Topics & contexts'!A15 -> Food sovereignty & justice | G3: ='Topics & contexts'!A24 -> Economic models & financing | H3: ='Topics & contexts'!$A$28 -> Systemic change | O3: CSA | P3: csanetworkfunding@gmail.com
A4: =A3+1 -> 2 | B4: How are ecological and sustainable farmers engaging with issues of Food Justice? | C4: How can ecological/sustainable farmers ensure that their produce is accessible to all? How are ecological and sustainable farmers engaging with issues of Food Jusitce? What practices can be shared and implemented? | D4: split into 3 | E4: =_xlfn.TEXTJOIN("; ", TRUE, F4:L4) -> Food sovereignty & justice; Communication, advocacy & political engagement; Systemic change | F4: ='Topics & contexts'!A15 -> Food sovereignty & justice | G4: ='Topics & contexts'!A26 -> Communication, advocacy & political engagement | H4: ='Topics & contexts'!$A$28 -> Systemic change | O4: CSA | P4: csanetworkfunding@gmail.com
A5: =A4+1 -> 3 | B5: Amongst agroecological farmers, what practices can be shared and implemented to improve food accessibility and equity? | C5: How can ecological/sustainable farmers ensure that their produce is accessible to all? How are ecological and sustainable farmers engaging with issues of Food Jusitce? What practices can be shared and implemented? | D5: split into 3 | E5: =_xlfn.TEXTJOIN("; ", TRUE, F5:L5) -> Food sovereignty & justice; Education, training & knowledge exchange; Systemic change | F5: ='Topics & contexts'!A15 -> Food sovereignty & justice | G5: ='Topics & contexts'!A20 -> Education, training & knowledge exchange | H5: ='Topics & contexts'!$A$28 -> Systemic change | O5: CSA | P5: csanetworkfunding@gmail.com
A6: =A5+1 -> 4 | B6: How commercially viable are small/medium production systems? | C6: Research that demonstrates how commercially viable small/medium production systems are. The ELC produced a report in 2011 looking at the viability of SME's in the food, farming and forestry sector - this research now needs updating. | D6: reframed as RQ | E6: =_xlfn.TEXTJOIN("; ", TRUE, F6:L6) -> Economic status, jobs & livelihoods | F6: ='Topics & contexts'!A23 -> Economic status, jobs & livelihoods | M6: E.g., could do an updated version of the 2011 ELC report 'Small is Successful' | N6: 2011 ELC report 'Small is Successful' | O6: ELC | P6: oli@ecologicalland.coop
A7: =A6+1 -> 5 | B7: How can farms collaborate in ways that are mutually supportive, including to maximise revenue streams? | C7: How can farms collaborate in ways that are mutually supportive? For exmaple, how can they coordiante food production for engagment with public procurement systems? Or, in the CSA model, is there a way for farms to collaborate on what produce is grown? | D7: Reduced and added to comments | E7: =_xlfn.TEXTJOIN("; ", TRUE, F7:L7) -> Economic models & financing; Labour & workers rights; Education, training & knowledge exchange | F7: ='Topics & contexts'!A24 -> Economic models & financing | G7: ='Topics & contexts'!A17 -> Labour & workers rights | H7: ='Topics & contexts'!A20 -> Education, training & knowledge exchange | M7: E.g., coordinating food production for public procurement systems or CSA model collaborations. | O7: CSA, LWA | P7: csanetworkfunding@gmail.com
A8: =A7+1 -> 6 | B8: How much public funding is allocated to research and development (R&D) in organic and agroecological practices compared to other agricultural approaches? | C8: Statistics and analysis on how much public funding goes towards R&D for organic/agroecological practices. | D8: reframed as RQ | E8: =_xlfn.TEXTJOIN("; ", TRUE, F8:L8) -> Policy & governance; Research; Tools, tech & appropriate innovation | F8: ='Topics & contexts'!A25 -> Policy & governance | G8: ='Topics & contexts'!$A$21 -> Research | I8: ='Topics & contexts'!$A$6 -> Tools, tech & appropriate innovation
A9: =A8+1 -> 7 | B9: How do different True Cost Accounting (TCA) valuation methods compare in their ability to capture the environmental and social externalities of agriculture? | C9: Critical analysis of the True Cost Accounting (TCA) valuation methods | D9: reframed as RQ | E9: =_xlfn.TEXTJOIN("; ", TRUE, F9:L9) -> Economic models & financing; Systemic change; Social & community impacts | F9: ='Topics & contexts'!A24 -> Economic models & financing | G9: ='Topics & contexts'!A28 -> Systemic change | H9: ='Topics & contexts'!A18 -> Social & community impacts | O9: ELC | P9: oli@ecologicalland.coop
A10: =A9+1 -> 8 | B10: In what ways is True Cost Accounting research influencing agricultural and food policy, and what are the implications for sustainability debates? | C10: Policy relevance of true cost accounting research and implications for sustainability debates | D10: reframed as RQ | E10: =_xlfn.TEXTJOIN("; ", TRUE, F10:L10) -> Economic models & financing; Policy & governance | F10: ='Topics & contexts'!A24 -> Economic models & financing | G10: ='Topics & contexts'!A25 -> Policy & governance | O10: ELC | P10: oli@ecologicalland.coop
A11: =A10+1 -> 9 | B11: What are the social impacts and benefits of agroecological farming systems, and how are these linked to current policy agendas? | C11: Research documenting and analysing the social impacts and benefits of agroecology, including relevance to 'green recovery' policies. | D11: reframed as RQ, updated to remove green recovery as mostly a covid-19 term | E11: =_xlfn.TEXTJOIN("; ", TRUE, F11:L11) -> Social & community impacts; Policy & governance | F11: ='Topics & contexts'!A18 -> Social & community impacts | G11: ='Topics & contexts'!A25 -> Policy & governance | O11: LWA | P11: campaigns and policy
A12: =A11+1 -> 10 | B12: How does peri-urban agriculture contribute to social value, particularly in relation to diet, physical health, and mental wellbeing? | C12: Understanding and analysing the social value of peri-urban agriculture, including impacts on diet, physical and mental health from volunteering. | D12: reframed as RQ | E12: =_xlfn.TEXTJOIN("; ", TRUE, F12:L12) -> Social & community impacts | F12: ='Topics & contexts'!A18 -> Social & community impacts | O12: LWA | P12: campaigns and policy
A13: =A12+1 -> 11 | B13: What different models of land tenure exist globally and/or in specific region? How do they vary across urban, peri-urban, and rural contexts? | C13: What different models of land tenure exist? How do they vary across urban, peri-urban, and rural contexts? Role of policy in access barriers. | D13: split into 2 | E13: =_xlfn.TEXTJOIN("; ", TRUE, F13:L13) -> Land access & new entrants; Land justice | F13: ='Topics & contexts'!A22 -> Land access & new entrants | H13: ='Topics & contexts'!A16 -> Land justice | O13: LWA | P13: campaigns and policy
A14: =A13+1 -> 12 | B14: What barriers exist to accessing land under different tenure models? What policies exacerbate or mitigate barriers to equitable land access? | C14: What different models of land tenure exist? How do they vary across urban, peri-urban, and rural contexts? Role of policy in access barriers. | D14: split into 2 | E14: =_xlfn.TEXTJOIN("; ", TRUE, F14:L14) -> Land access & new entrants; Policy & governance; Systemic change; Land justice | F14: ='Topics & contexts'!A22 -> Land access & new entrants | G14: ='Topics & contexts'!A25 -> Policy & governance | H14: ='Topics & contexts'!A28 -> Systemic change | I14: ='Topics & contexts'!A16 -> Land justice | O14: LWA | P14: campaigns and policy
A15: =A14+1 -> 13 | B15: How do perceptions of farming shape the uptake of agroecological practices among new and prospective farmers? | C15: Understanding perceptions of farming and uptake of agroecological practices; what attracts people to farming careers and informs policy/programmes for new entrants. | D15: split into 2 and reframed as RQ | E15: =_xlfn.TEXTJOIN("; ", TRUE, F15:L15) -> Culture, heritage & traditional knowledge; Education, training & knowledge exchange | F15: ='Topics & contexts'!A19 -> Culture, heritage & traditional knowledge | G15: ='Topics & contexts'!A20 -> Education, training & knowledge exchange | O15: LWA | P15: campaigns and policy
A16: =A15+1 -> 14 | B16: What factors attract people to farming careers, and how can these insights inform policies and programmes for new entrants? | C16: Understanding perceptions of farming and uptake of agroecological practices; what attracts people to farming careers and informs policy/programmes for new entrants. | D16: split into 2 and reframed as RQ | E16: =_xlfn.TEXTJOIN("; ", TRUE, F16:L16) -> Land access & new entrants; Policy & governance; Education, training & knowledge exchange; Labour & workers rights | F16: ='Topics & contexts'!A22 -> Land access & new entrants | G16: ='Topics & contexts'!A25 -> Policy & governance | H16: ='Topics & contexts'!A20 -> Education, training & knowledge exchange | I16: ='Topics & contexts'!$A$17 -> Labour & workers rights | O16: LWA | P16: campaigns and policy
A17: =A16+1 -> 15 | B17: What are the benefits of supporting young people in land-based careers? | C17: Demonstrating benefits of supporting young people in land-based careers | D17: reframed as RQ | E17: =_xlfn.TEXTJOIN("; ", TRUE, F17:L17) -> Land access & new entrants; Education, training & knowledge exchange; Systemic change; Labour & workers rights | F17: ='Topics & contexts'!A22 -> Land access & new entrants | G17: ='Topics & contexts'!A20 -> Education, training & knowledge exchange | H17: ='Topics & contexts'!A28 -> Systemic change | I17: ='Topics & contexts'!$A$17 -> Labour & workers rights | O17: ELC | P17: oli@ecologicalland.coop
A18: =A17+1 -> 16 | B18: How do training, support systems, and farm-based opportunities influence recruitment, retention, and career progression for new entrants in agroecological farming? | E18: =_xlfn.TEXTJOIN("; ", TRUE, F18:L18) -> Land access & new entrants; Education, training & knowledge exchange; Labour & workers rights | F18: ='Topics & contexts'!A22 -> Land access & new entrants | G18: ='Topics & contexts'!A20 -> Education, training & knowledge exchange | H18: ='Topics & contexts'!$A$17 -> Labour & workers rights | O18: ELC | P18: oli@ecologicalland.coop
A19: =A18+1 -> 17 | B19: What does a just transition mean/look like for conventional farmers? | E19: =_xlfn.TEXTJOIN("; ", TRUE, F19:L19) -> Systemic change; Food sovereignty & justice; GHGs & climate mitigation | F19: ='Topics & contexts'!A28 -> Systemic change | G19: ='Topics & contexts'!A15 -> Food sovereignty & justice | H19: ='Topics & contexts'!A14 -> GHGs & climate mitigation | O19: LWA | P19: Scotland
A20: =A19+1 -> 18 | B20: What are the social, economic, and environmental benefits of decentralised food and farming supply chains, and how can these be measured? | C20: Data and analysis investigating the social, economic, and environmental benefits of decentralised supply chains. | D20: reframed as RQ | E20: =_xlfn.TEXTJOIN("; ", TRUE, F20:L20) -> GHGs & climate mitigation; Social & community impacts; Systemic change; Economic status, jobs & livelihoods | G20: ='Topics & contexts'!A14 -> GHGs & climate mitigation | H20: ='Topics & contexts'!A18 -> Social & community impacts | I20: ='Topics & contexts'!A28 -> Systemic change | J20: ='Topics & contexts'!A23 -> Economic status, jobs & livelihoods | O20: LWA | P20: Tony Little
A21: =A20+1 -> 19 | B21: What is the potential for public procurement to support agroecological and sustainable farming within current political, social, and ecological contexts? | C21: Understanding the potential for public procurement within current political, social, and ecological contexts (Brexit, COVID-19, climate change). | D21: reframed as RQ | E21: =_xlfn.TEXTJOIN("; ", TRUE, F21:L21) -> Policy & governance | F21: ='Topics & contexts'!A25 -> Policy & governance | M21: E.g., climate change, or any pressing changes (past examples include Brexit, COVID-19 pandemic etc) | O21: LWA | P21: Wales
A22: =A21+1 -> 20 | B22: How do agroecological practitioners perceive new farming technologies? | C22: Understanding how agroecological practitioners view technology | D22: reframed as RQ | E22: =_xlfn.TEXTJOIN("; ", TRUE, F22:L22) -> Tools, tech & appropriate innovation; Culture, heritage & traditional knowledge | F22: ='Topics & contexts'!A6 -> Tools, tech & appropriate innovation | H22: ='Topics & contexts'!A19 -> Culture, heritage & traditional knowledge | O22: LWA | P22: Scotland
A23: =A22+1 -> 21 | B23: How do existing regulatory frameworks shape the development and adoption of appropriate technologies for agroecology? | C23: Analysis of regulatory frameworks for appropriate technology development. | D23: reframed as RQ | E23: =_xlfn.TEXTJOIN("; ", TRUE, F23:L23) -> Tools, tech & appropriate innovation; Policy & governance | F23: ='Topics & contexts'!A6 -> Tools, tech & appropriate innovation | G23: ='Topics & contexts'!A25 -> Policy & governance | O23: LWA | P23: Scotland
A24: =A23+1 -> 22 | B24: In what ways can agroecology deliver public goods? | C24: How agroecology can meet the 'public goods' remit (e.g., Ecological Land Management Scheme). | D24: reframed as RQ | E24: =_xlfn.TEXTJOIN("; ", TRUE, F24:L24) -> Policy & governance; Ecology & biodiversity; GHGs & climate mitigation; Social & community impacts; Economic status, jobs & livelihoods; Soil health | F24: ='Topics & contexts'!A25 -> Policy & governance | G24: ='Topics & contexts'!A9 -> Ecology & biodiversity | H24: ='Topics & contexts'!A14 -> GHGs & climate mitigation | I24: ='Topics & contexts'!A18 -> Social & community impacts | J24: ='Topics & contexts'!A23 -> Economic status, jobs & livelihoods | L24: ='Topics & contexts'!A10 -> Soil health | M24: Could look at how this aligns with e.g., ELMs schemes | O24: LWA | P24: campaigns and policy
A25: =A24+1 -> 23 | B25: How have agricultural subsidies been designed and implemented in small nations, and what lessons are relevant for the Welsh context? | C25: Examples of how agricultural subsidies have been developed and enacted in different countries, focusing on small nations relevant to Welsh context. | D25: reframed as RQ | E25: =_xlfn.TEXTJOIN("; ", TRUE, F25:L25) -> Economic models & financing; Policy & governance | F25: ='Topics & contexts'!A24 -> Economic models & financing | G25: ='Topics & contexts'!A25 -> Policy & governance | O25: LWA | P25: Holly T
A26: =A25+1 -> 24 | B26: What do current patterns of land ownership in Wales reveal, and how can these data inform political dialogue and policy on land access? | C26: Data and statistics on current land ownership for political dialogues around land access in Wales. | D26: reframed as RQ | E26: =_xlfn.TEXTJOIN("; ", TRUE, F26:L26) -> Land access & new entrants; Policy & governance; Land justice | F26: ='Topics & contexts'!A22 -> Land access & new entrants | G26: ='Topics & contexts'!A25 -> Policy & governance | H26: ='Topics & contexts'!A16 -> Land justice | O26: LWA | P26: Holly T
A27: =A26+1 -> 25 | B27: How do current policies and programs affect the horticultural sector? What examples are there from elsewhere that could be implemented here to support horticultural development? | E27: =_xlfn.TEXTJOIN("; ", TRUE, F27:L27) -> Policy & governance; Economic models & financing | F27: ='Topics & contexts'!A25 -> Policy & governance | G27: ='Topics & contexts'!A24 -> Economic models & financing | O27: LWA | P27: Holly T
A28: =A27+1 -> 26 | B28: What legal powers does Wales have as a devolved nation? How can these support farmers if standards are reduced in trade deals? | E28: =_xlfn.TEXTJOIN("; ", TRUE, F28:L28) -> Policy & governance; Economic models & financing | F28: ='Topics & contexts'!A25 -> Policy & governance | G28: ='Topics & contexts'!A24 -> Economic models & financing | O28: LWA | P28: Holly T
A29: =A28+1 -> 27 | B29: For sites that have recently converted, or are transitioning, to agroecological practices, how do different metrics compare (e.g., inputs, outputs, economics, biodiversity)? | C29: Comparison modelling on sites that used conventional/industrial agricultural practices and are now using/transitioning to agroecologcal practices. Gathering data on various aspects - inputs/outputs/biodiversity etc. | D29: reframed as RQ | E29: =_xlfn.TEXTJOIN("; ", TRUE, F29:L29) -> Economic status, jobs & livelihoods; Ecology & biodiversity; Soil health; Resource management & circularity; GHGs & climate mitigation; Social & community impacts | G29: ='Topics & contexts'!A23 -> Economic status, jobs & livelihoods | H29: ='Topics & contexts'!A9 -> Ecology & biodiversity | I29: ='Topics & contexts'!A10 -> Soil health | J29: ='Topics & contexts'!A13 -> Resource management & circularity | K29: ='Topics & contexts'!A14 -> GHGs & climate mitigation | L29: ='Topics & contexts'!A18 -> Social & community impacts | O29: ELC | P29: oli@ecologicalland.coop
A30: =A29+1 -> 28 | B30: What are the current economic condition of ecological/sustainable farmers, growers, and foresters? How do these perform against UK agricultural standards? | C30: Data on the current conditions and dynamics of ecological/sustainable farmers, growers and foresters: - acreage (how much land is managed through agroecological practices in the UK?) - productivity - economic turnover - income per hectare - labour etc. - buisness system (e.g. box scheme, wholesale etc.) How do these perform against UK agricultural standards? | D30: reframed as RQ | E30: =_xlfn.TEXTJOIN("; ", TRUE, F30:L30) -> Economic status, jobs & livelihoods | F30: ='Topics & contexts'!A23 -> Economic status, jobs & livelihoods | M30: This could include acreage, productivity, economic turnover, income per hectare, labour, and business system. | O30: ELC, CSA, OGA, LWA | P30: oli@ecologicalland.coop csanetworkfunding@gmail.com
A31: =A30+1 -> 29 | B31: What are the social, economic, and environmental benefits of new models of land access for small farming and forestry enterprises, e.g., Ecological Land Cooperative? | C31: For new models of land access, e.g. Ecological Land Cooperative, there is a need to have up to date documentation on the social, economic and environmental beneftis of small farming and forestry enterprises. This is then used in acquiring sites and dealing with local council and planning authorities. | D31: reframed as RQ | E31: =_xlfn.TEXTJOIN("; ", TRUE, F31:L31) -> Land access & new entrants; Economic status, jobs & livelihoods; Ecology & biodiversity; Soil health; GHGs & climate mitigation; Social & community impacts | F31: ='Topics & contexts'!A22 -> Land access & new entrants | G31: ='Topics & contexts'!$A$23 -> Economic status, jobs & livelihoods | H31: ='Topics & contexts'!$A$9 -> Ecology & biodiversity | I31: ='Topics & contexts'!$A$10 -> Soil health | K31: ='Topics & contexts'!$A$14 -> GHGs & climate mitigation | L31: ='Topics & contexts'!$A$18 -> Social & community impacts | O31: ELC | P31: oli@ecologicalland.coop
A32: =A31+1 -> 30 | B32: How do different cultivation practices affect carbon sequestration and emissions? | C32: Comparative data and modelling on how different cultivation practices affect carbon sequestration and minimise emissions. | D32: reframed as RQ | E32: =_xlfn.TEXTJOIN("; ", TRUE, F32:L32) -> Agroecological practices & alternatives to conventional; GHGs & climate mitigation | F32: ='Topics & contexts'!A3 -> Agroecological practices & alternatives to conventional | G32: ='Topics & contexts'!A14 -> GHGs & climate mitigation | O32: LWA | P32: campaigns and policy
A33: =A32+1 -> 31 | B33: How much seed is imported, from where, and what are the labour and environmental conditions of seed production enterprises? | C33: Statistics and data needed on: - how much seed is imported? - where are seeds importeded from? - what are the labour conditions of seed production enterprises? - what are the environmental practices of seed production enterprises? | D33: made concise | E33: =_xlfn.TEXTJOIN("; ", TRUE, F33:L33) -> Agroecological practices & alternatives to conventional; Economic status, jobs & livelihoods; GHGs & climate mitigation | F33: ='Topics & contexts'!A3 -> Agroecological practices & alternatives to conventional | G33: ='Topics & contexts'!A23 -> Economic status, jobs & livelihoods | H33: ='Topics & contexts'!A14 -> GHGs & climate mitigation | O33: LWA
A34: =A33+1 -> 32 | B34: What case examples exist where large farms have divided land into smaller agroecological farms, and what models or agreements have worked? | C34: Case examples where large farms have put over land (or divided it up) into smaller agroecological farms. Particularly interested in cases that have been longer in duration. Seeing what models/agreements have worked and what the benefits are (social, economic, enviro). | D34: reframed as RQ | E34: =_xlfn.TEXTJOIN("; ", TRUE, F34:L34) -> Land access & new entrants; Economic models & financing; Land justice | F34: ='Topics & contexts'!A22 -> Land access & new entrants | G34: ='Topics & contexts'!A24 -> Economic models & financing | H34: ='Topics & contexts'!A16 -> Land justice | O34: ELC | P34: oli@ecologicalland.coop
A35: =A34+1 -> 33 | B35: How could woodlands fit into a region to create a mosaic/diverse landscape, and what would the social, ecological, and economic impacts be? | C35: Taking a 'region' (e.g. bioregion, watershed, county council area) and modelling how woodlands could fit into the area to create a mosaic/diverse landscape? From this, understanding what the social, ecological and economic impacts/ benefits would be. | D35: made concise | E35: =_xlfn.TEXTJOIN("; ", TRUE, F35:L35) -> Economic status, jobs & livelihoods; Ecology & biodiversity; Soil health; Resource management & circularity; GHGs & climate mitigation; Social & community impacts | F35: ='Topics & contexts'!$A$23 -> Economic status, jobs & livelihoods | G35: ='Topics & contexts'!$A$9 -> Ecology & biodiversity | H35: ='Topics & contexts'!$A$10 -> Soil health | I35: ='Topics & contexts'!$A$13 -> Resource management & circularity | J35: ='Topics & contexts'!$A$14 -> GHGs & climate mitigation | K35: ='Topics & contexts'!$A$18 -> Social & community impacts | M35: Region could be a bioregion, watershed, county council area etc | O35: LWA | P35: Woodland (Oli R and Olly C)
A36: =A35+1 -> 34 | B36: How effective is current organic certification, and what restrictions or barriers exist? | C36: Better analysis and understanding of current organic certification and if it is fit for purpose. Is the way we currently certify things the best way? What are the restrictions to certification? Why are some people choosing not to certify or not go for organic conversion? | D36: reframed as RQ | E36: =_xlfn.TEXTJOIN("; ", TRUE, F36:L36) -> Certification & standards; Economic models & financing | F36: ='Topics & contexts'!A8 -> Certification & standards | G36: ='Topics & contexts'!A24 -> Economic models & financing | O36: OGA
A37: =A36+1 -> 35 | B37: What is the nutritional density of food produced through agroecological practices compared with conventionally produced food? | C37: Documenting and understanding the nuritional density of food produced through agroecological practices (comparative monitoring with conventionally/industrially produced food). | D37: reframed as RQ | E37: =_xlfn.TEXTJOIN("; ", TRUE, F37:L37) -> Social & community impacts; Quality of produce | F37: ='Topics & contexts'!A18 -> Social & community impacts | G37: ='Topics & contexts'!$A$5 -> Quality of produce | O37: CSA | P37: csanetworkfunding@gmail.com
A38: =A37+1 -> 36 | B38: How productive are no-till systems? How does productivity correlate with e.g., soil health, biodiversity, carbon sequestration? | C38: Creating data sets that can monitor the productivity and efficiency of no-till systems, that also take into consideration soil health, biodiversity, carbon sequestration etc. | D38: reframed as RQ | E38: =_xlfn.TEXTJOIN("; ", TRUE, F38:L38) -> Soil health; Ecology & biodiversity; GHGs & climate mitigation; Agroecological practices & alternatives to conventional; Yield | F38: ='Topics & contexts'!A10 -> Soil health | G38: ='Topics & contexts'!A9 -> Ecology & biodiversity | H38: ='Topics & contexts'!A14 -> GHGs & climate mitigation | I38: ='Topics & contexts'!A3 -> Agroecological practices & alternatives to conventional | J38: ='Topics & contexts'!$A$4 -> Yield | O38: CSA | P38: csanetworkfunding@gmail.com
A39: =A38+1 -> 37 | B39: What soil ecology shifts occur when land transitions from industrial to agroecological management across diverse landscapes, looking at both uplands and lowlands? | C39: Data that captures ecological shift from industrial land management to agroecological land management. More overview of diverse landscapes - studying both the uplands and lowlands. Stats gathered on monitoring soil changes over time, capturing data on carbon, organic matter, worms, microlife etc. | D39: reframed as RQ, split into 2 | E39: =_xlfn.TEXTJOIN("; ", TRUE, F39:L39) -> Ecology & biodiversity; Soil health | F39: ='Topics & contexts'!$A$9 -> Ecology & biodiversity | G39: ='Topics & contexts'!$A$10 -> Soil health | M39: carbon, organic matter, worms, microlife etc | O39: ELC
A40: =A39+1 -> 38 | B40: Which types of mulch are most effective for improving soil properties while maintaining nutrient balance? Which is the best way to manage mulch? | C40: Deep mulch systems: Exploring management practices for mulching. How mulching can benefit soil without overfertilising it. | D40: reframed as RQ, split into 2 | E40: =_xlfn.TEXTJOIN("; ", TRUE, F40:L40) -> Agroecological practices & alternatives to conventional; Soil health; Ecology & biodiversity | F40: ='Topics & contexts'!$A$3 -> Agroecological practices & alternatives to conventional | G40: ='Topics & contexts'!$A$10 -> Soil health | I40: ='Topics & contexts'!$A$9 -> Ecology & biodiversity | O40: CSA | P40: csanetworkfunding@gmail.com
...

Sheet Instructions for updater
B2: Hello person of the future!
B4: Congrats on getting the lovely task of updating this spreadsheet :-). I've tried to make it easy if you follow the below instructions..
B6: IMPORTANT
B7: Do not edit any green sheets unless you are an Excel whizz; all of these should feed through from other sheets
B8: Do not edit formula in any coloured cell in the non-public facing sheets. These contain formulas that will update based on things in other cells, and it's important they stay functional for the rest of the spreadsheet to work
B10: To add in new research needs
B11: 1. New research questions should be added in the Research Needs (all) tab in column B above the grey line (add a new row where necessary).
B12: Please make sure things are added above the grey line (add a new row where necessary); this means the formulas elsewhere will still look at all of the rows with data in.
B13: 2. In column A, copy the formula from above (the questions should all be numbered in order)
B14: 3. Add in any themes and contexts for each column you add.
B15: - Please enter each separately in Topic 1, 2, 3 etc and Context 1,2,3 etc, and then copy and paste the formula from the previous entry into the green column, this will pull them all together in the correct format for the subsequent formula
B16: 4. Navigate to the 'All Research Needs' spreadsheet
... B24: Rosy, Sept 2025

Sheet topic count
A1: [non-public-facing copy: hide this sheet for the public version]
B2: Scale up opportunities & barriers | C2: Systemic change | D2: Agroecological practices & alternatives to conventional | E2: Social & community impacts | F2: Economic status, jobs & livelihoods | G2: Soil health | H2: Economic models & financing | I2: Policy & governance | J2: GHGs & climate mitigation | K2: Ecology & biodiversity | L2: Communication, advocacy & political engagement | M2: Land access & new entrants | N2: Education, training & knowledge exchange | O2: Culture, heritage & traditional knowledge | P2: Resource management & circularity | Q2: Labour & workers rights | R2: Tools, tech & appropriate innovation | S2: Yield | T2: Land justice | U2: Food sovereignty & justice | V2: Quality of produce | W2: Resilience to shocks (incl. climate change) | X2: Certification & standards | Y2: Research | Z2: Animal welfare | AA2: Water resources
A3: all | B3: =COUNTIF('Research Needs (all)'!$F$3:$L$196, 'topic count'!B2) -> 55 | C3: =COUNTIF('Research Needs (all)'!$F$3:$L$196, 'topic count'!C2) -> 43 | D3: =COUNTIF('Research Needs (all)'!$F$3:$L$196, 'topic count'!D2) -> 42 | E3: =COUNTIF('Research Needs (all)'!$F$3:$L$196, 'topic count'!E2) -> 39 | F3: =COUNTIF('Research Needs (all)'!$F$3:$L$196, 'topic count'!F2) -> 35 | G3: =COUNTIF('Research Needs (all)'!$F$3:$L$196, 'topic count'!G2) -> 33 | H3: =COUNTIF('Research Needs (all)'!$F$3:$L$196, 'topic count'!H2) -> 32 | I3: =COUNTIF('Research Needs (all)'!$F$3:$L$196, 'topic count'!I2) -> 32 | ... AA3: =COUNTIF('Research Needs (all)'!$F$3:$L$196, 'topic count'!AA2) -> 5
A4: pre-25 | B4: =COUNTIF('Research Needs (all)'!$F$3:$L$75, 'topic count'!B2) -> 7 | C4: =COUNTIF('Research Needs (all)'!$F$3:$L$75, 'topic count'!C2) -> 11 | D4: =COUNTIF('Research Needs (all)'!$F$3:$L$75, 'topic count'!D2) -> 29 | E4: =COUNTIF('Research Needs (all)'!$F$3:$L$75, 'topic count'!E2) -> 16 | F4: =COUNTIF('Research Needs (all)'!$F$3:$L$75, 'topic count'!F2) -> 16 | G4: =COUNTIF('Research Needs (all)'!$F$3:$L$75, 'topic count'!G2) -> 24 | H4: =COUNTIF('Research Needs (all)'!$F$3:$L$75, 'topic count'!H2) -> 9 | I4: =COUNTIF('Research Needs (all)'!$F$3:$L$75, 'topic count'!I2) -> 13 | ... AA4: =COUNTIF('Research Needs (all)'!$F$3:$L$75, 'topic count'!AA2) -> 0
A5: post-25 | B5: =COUNTIF('Research Needs (all)'!$F$76:$L$196, 'topic count'!B2) -> 48 | C5: =COUNTIF('Research Needs (all)'!$F$76:$L$196, 'topic count'!C2) -> 32 | D5: =COUNTIF('Research Needs (all)'!$F$76:$L$196, 'topic count'!D2) -> 13 | E5: =COUNTIF('Research Needs (all)'!$F$76:$L$196, 'topic count'!E2) -> 23 | F5: =COUNTIF('Research Needs (all)'!$F$76:$L$196, 'topic count'!F2) -> 19 | G5: =COUNTIF('Research Needs (all)'!$F$76:$L$196, 'topic count'!G2) -> 9 | H5: =COUNTIF('Research Needs (all)'!$F$76:$L$196, 'topic count'!H2) -> 23 | I5: =COUNTIF('Research Needs (all)'!$F$76:$L$196, 'topic count'!I2) -> 19 | ... AA5: =COUNTIF('Research Needs (all)'!$F$76:$L$196, 'topic count'!AA2) -> 5
B7: Agroecological practices & alternatives to conventional | C7: Soil health | D7: GHGs & climate mitigation | E7: Ecology & biodiversity | F7: Resource management & circularity | G7: Social & community impacts | H7: Economic status, jobs & livelihoods | I7: Policy & governance | J7: Tools, tech & appropriate innovation | K7: Systemic change | L7: Economic models & financing | M7: Land access & new entrants | N7: Yield | O7: Scale up opportunities & barriers | P7: Education, training & knowledge exchange | Q7: Land justice | R7: Food sovereignty & justice | S7: Labour & workers rights | T7: Animal welfare | U7: Certification & standards | V7: Quality of produce | W7: Culture, heritage & traditional knowledge | X7: Research | Y7: Communication, advocacy & political engagement | Z7: Resilience to shocks (incl. climate change) | AA7: Water resources
A8: pre-25 | B8: =COUNTIF('Research Needs (all)'!$F$3:$L$75, 'topic count'!B7) -> 29 | C8: =COUNTIF('Research Needs (all)'!$F$3:$L$75, 'topic count'!C7) -> 24 | D8: =COUNTIF('Research Needs (all)'!$F$3:$L$75, 'topic count'!D7) -> 21 | E8: =COUNTIF('Research Needs (all)'!$F$3:$L$75, 'topic count'!E7) -> 19 | F8: =COUNTIF('Research Needs (all)'!$F$3:$L$75, 'topic count'!F7) -> 17 | G8: =COUNTIF('Research Needs (all)'!$F$3:$L$75, 'topic count'!G7) -> 16 | H8: =COUNTIF('Research Needs (all)'!$F$3:$L$75, 'topic count'!H7) -> 16 | I8: =COUNTIF('Research Needs (all)'!$F$3:$L$75, 'topic count'!I7) -> 13 | ... AA8: =COUNTIF('Research Needs (all)'!$F$3:$L$75, 'topic count'!AA7) -> 0
B10: Scale up opportunities & barriers | C10: Systemic change | D10: Communication, advocacy & political engagement | E10: Economic models & financing | F10: Social & community impacts | G10: Culture, heritage & traditional knowledge | H10: Land access & new entrants | I10: Economic status, jobs & livelihoods | J10: Policy & governance | K10: Education, training & knowledge exchange | L10: Labour & workers rights | M10: Agroecological practices & alternatives to conventional | N10: Land justice | O10: Food sovereignty & justice | P10: Yield | Q10: Quality of produce | R10: Ecology & biodiversity | S10: GHGs & climate mitigation | T10: Soil health | U10: Tools, tech & appropriate innovation | V10: Resilience to shocks (incl. climate change) | W10: Water resources | X10: Research | Y10: Resource management & circularity | Z10: Certification & standards | AA10: Animal welfare
A11: post-25 | B11: =COUNTIF('Research Needs (all)'!$F$76:$L$196, 'topic count'!B10) -> 48 | C11: =COUNTIF('Research Needs (all)'!$F$75:$L$196, 'topic count'!C10) -> 33 | D11: =COUNTIF('Research Needs (all)'!$F$75:$L$196, 'topic count'!D10) -> 27 | E11: =COUNTIF('Research Needs (all)'!$F$75:$L$196, 'topic count'!E10) -> 23 | F11: =COUNTIF('Research Needs (all)'!$F$75:$L$196, 'topic count'!F10) -> 23 | G11: =COUNTIF('Research Needs (all)'!$F$75:$L$196, 'topic count'!G10) -> 21 | H11: =COUNTIF('Research Needs (all)'!$F$75:$L$196, 'topic count'!H10) -> 19 | I11: =COUNTIF('Research Needs (all)'!$F$75:$L$196, 'topic count'!I10) -> 19 | J11: =COUNTIF('Research Needs (all)'!$F$75:$L$196, 'topic count'!J10) -> 19 | ... AA11: =COUNTIF('Research Needs (all)'!$F$75:$L$196, 'topic count'!AA10) -> 3

Sheet Topics & contexts
A1: [non-public-facing copy: hide this sheet for the public version]
A2: Research topics | C2: Research contexts
A3: Agroecological practices & alternatives to conventional | C3: Arable
A4: Yield | C4: Pastoral
A5: Quality of produce | C5: Horticultural (incl. market gardens)
A6: Tools, tech & appropriate innovation | C6: Integrated / mixed systems
A7: Resilience to shocks (incl. climate change) | C7: Community-focussed agriculture (e.g., CSAs, schools, allotments)
A8: Certification & standards | C8: Urban and peri-urban growing
A9: Ecology & biodiversity | C9: Crofts and smallholdings
A10: Soil health | C10: Polycropping and agroforestry
A11: Water resources | C11: Fibre
A12: Animal welfare | C12: Specialised agriculture (e.g., fibre, flowers, paludiculture, viticulture)
A13: Resource management & circularity | C13: All agricultural/horticultural systems
... A17: Labour & workers rights | C17: Policy and/or system-wide
A18: Social & community impacts
A19: Culture, heritage & traditional knowledge
A20: Education, training & knowledge exchange
A21: Research
A22: Land access & new entrants
A23: Economic status, jobs & livelihoods
A24: Economic models & financing
A25: Policy & governance
A26: Communication, advocacy & political engagement
A27: Scale up opportunities & barriers
A28: Systemic change
